BEGIN:VCALENDAR
VERSION:2.0
PRODID:-//ZCA - ECPv6.15.20//NONSGML v1.0//EN
CALSCALE:GREGORIAN
METHOD:PUBLISH
X-ORIGINAL-URL:https://zugcommodity.ch
X-WR-CALDESC:Events for ZCA
REFRESH-INTERVAL;VALUE=DURATION:PT1H
X-Robots-Tag:noindex
X-PUBLISHED-TTL:PT1H
BEGIN:VTIMEZONE
TZID:Europe/Zurich
BEGIN:DAYLIGHT
TZOFFSETFROM:+0100
TZOFFSETTO:+0200
TZNAME:CEST
DTSTART:20250330T010000
END:DAYLIGHT
BEGIN:STANDARD
TZOFFSETFROM:+0200
TZOFFSETTO:+0100
TZNAME:CET
DTSTART:20251026T010000
END:STANDARD
BEGIN:DAYLIGHT
TZOFFSETFROM:+0100
TZOFFSETTO:+0200
TZNAME:CEST
DTSTART:20260329T010000
END:DAYLIGHT
BEGIN:STANDARD
TZOFFSETFROM:+0200
TZOFFSETTO:+0100
TZNAME:CET
DTSTART:20261025T010000
END:STANDARD
BEGIN:DAYLIGHT
TZOFFSETFROM:+0100
TZOFFSETTO:+0200
TZNAME:CEST
DTSTART:20270328T010000
END:DAYLIGHT
BEGIN:STANDARD
TZOFFSETFROM:+0200
TZOFFSETTO:+0100
TZNAME:CET
DTSTART:20271031T010000
END:STANDARD
END:VTIMEZONE
BEGIN:VEVENT
DTSTART;TZID=Europe/Zurich:20260507T150000
DTEND;TZID=Europe/Zurich:20260507T173000
DTSTAMP:20260424T220133
CREATED:20260316T110149Z
LAST-MODIFIED:20260420T121802Z
UID:3651-1778166000-1778175000@zugcommodity.ch
SUMMARY:Human Capital Trends & Insights by Aon
DESCRIPTION:Aon – Human Capital Trends & Insights – Commodity Trading Sector \nThursday 7 May 2026 SHED Zug 15:00-18:00 \n Agenda: \n\nIntroductions\, Attendees and Polling\nKey Human Capital Trends\nCommodity Trading Sector Update:\n\n\n\n2025 Review\nPerformance\, Reward & Salary Trends\n2026 Outlook\n\n\n\n\nAon’s Compensation Benchmarking Survey\nSwitzerland Benefits & Pension Update\nQ&A
URL:https://zugcommodity.ch/event/aon/
LOCATION:SHED Zug\, Dammstrasse 16\, Zug\, Switzerland
CATEGORIES:ZCA
ATTACH;FMTTYPE=image/jpeg:https://zugcommodity.ch/wp-content/uploads/2026/04/AON.jpg
ORGANIZER;CN="Zug Commodity Association":MAILTO:leila.narhinen@zugcommodity.ch
END:VEVENT
BEGIN:VEVENT
DTSTART;TZID=Europe/Zurich:20260520T170000
DTEND;TZID=Europe/Zurich:20260520T180000
DTSTAMP:20260424T220133
CREATED:20260224T100945Z
LAST-MODIFIED:20260420T101211Z
UID:3521-1779296400-1779300000@zugcommodity.ch
SUMMARY:ZCA Annual General Meeting
DESCRIPTION:AGM
URL:https://zugcommodity.ch/event/zca-annual-general-meeting/
LOCATION:CV Labs\, Dammstrasse 16\, Zug\, 6300
CATEGORIES:ZCA
ATTACH;FMTTYPE=image/jpeg:https://zugcommodity.ch/wp-content/uploads/2024/02/zca_favicon.jpg
ORGANIZER;CN="Zug Commodity Association":MAILTO:leila.narhinen@zugcommodity.ch
END:VEVENT
BEGIN:VEVENT
DTSTART;TZID=Europe/Zurich:20260520T180000
DTEND;TZID=Europe/Zurich:20260520T210000
DTSTAMP:20260424T220133
CREATED:20260420T092439Z
LAST-MODIFIED:20260424T163501Z
UID:3776-1779300000-1779310800@zugcommodity.ch
SUMMARY:Anticipating risks in an uncertain world by Coface and Malakut
DESCRIPTION:Anticipating risks in an uncertain world \nAgenda starting 18:00: \n\nEconomic outlook and risk review – Ruben Nizard\, Senior Economist\, Coface\nHow Coface helps you anticipate and manage risk in an uncertain world – Fabian Clivaz\, Senior Strategic Business Information Manager\, Coface Switzerland\nQ&A Session – Moderator Audrius Rosinas\, CEO Malakut\n\nNetworking apero \nMalakut is a partner and expert in trade risk management. They help businesses find and choose the best solution to enable safe trade.
URL:https://zugcommodity.ch/event/anticipating-risks-in-an-uncertain-world/
LOCATION:CV Labs\, Dammstrasse 16\, Zug\, 6300
CATEGORIES:ZCA
ATTACH;FMTTYPE=image/jpeg:https://zugcommodity.ch/wp-content/uploads/2026/04/Coface_Malakut.jpg
ORGANIZER;CN="Zug Commodity Association":MAILTO:leila.narhinen@zugcommodity.ch
END:VEVENT
END:VCALENDAR